BEGIN:VCALENDAR
VERSION:2.0
PRODID:DPCALENDAR
CALSCALE:GREGORIAN
BEGIN:VTIMEZONE
TZID:Europe/Berlin
X-MICROSOFT-CDO-TZID:4
BEGIN:STANDARD
DTSTART:20251026T010000
TZOFFSETFROM:+0200
TZOFFSETTO:+0100
TZNAME:CET
END:STANDARD
BEGIN:STANDARD
DTSTART:20261025T010000
TZOFFSETFROM:+0200
TZOFFSETTO:+0100
TZNAME:CET
END:STANDARD
BEGIN:DAYLIGHT
DTSTART:20260329T010000
TZOFFSETFROM:+0100
TZOFFSETTO:+0200
TZNAME:CEST
END:DAYLIGHT
END:VTIMEZONE
X-WR-TIMEZONE:Europe/Berlin
BEGIN:VEVENT
DTSTART;VALUE=DATE:20250427
DTEND;VALUE=DATE:20250428
UID:5EF3D8A2-5728-4C9C-B573-BB165E1083AC
SUMMARY:Jahresabnahme mit Zentralem Frühjahrstraining Pausa
CREATED:20250218T093956Z
DTSTAMP:20250218T093956Z
URL:https://www.admv.de/index.php/de/motorsport/termine/jahresabnahme-mit-zentralem-fruehjahrstraining-pausa
LAST-MODIFIED:20250218T093956Z
SEQUENCE:0
LOCATION:Paul-Scharf-Straße\, 07952 Pausa\, Saxony\, Deutschland
GEO:50.58017950;11.99709400
X-LOCATION-DISPLAYNAME:Pausa
X-ACCESS:1
X-HITS:6293
X-COLOR:268243
X-SHOW-END-TIME:1
END:VEVENT
BEGIN:VEVENT
DTSTART;VALUE=DATE:20250509
DTEND;VALUE=DATE:20250512
UID:64E0F5D8-9C70-46F1-98FF-DA6DAC4E93A1
SUMMARY:WL 1. & 2. Brünn Histo Cup (angefragt)
CREATED:20250218T094114Z
DTSTAMP:20250218T094114Z
URL:https://www.admv.de/index.php/de/motorsport/termine/wl-1-2-bruenn-histo-cup-angefragt
LAST-MODIFIED:20250218T094114Z
SEQUENCE:0
LOCATION:3842\, 641 00 Brünn\, Südosten\, Tschechien
GEO:49.21024290;16.45066830
X-LOCATION-DISPLAYNAME:Automotodrom (rozc.)
X-ACCESS:1
X-HITS:6138
X-COLOR:268243
X-SHOW-END-TIME:1
END:VEVENT
BEGIN:VEVENT
DTSTART;VALUE=DATE:20250613
DTEND;VALUE=DATE:20250616
UID:C2839FB9-B9B7-4C8B-9D51-97AE97121782
SUMMARY:WL 3. & 4. VfV Most
CREATED:20250218T094155Z
DTSTAMP:20250218T094155Z
URL:https://www.admv.de/index.php/de/motorsport/termine/wl-3-4-vfv-most
LAST-MODIFIED:20250218T094155Z
SEQUENCE:0
LOCATION:Hořanská cesta\, 435 02 Brüx\, Nordwesten\, Tschechien
GEO:50.51822000;13.59791478
X-LOCATION-DISPLAYNAME:Autodrom Most
X-ACCESS:1
X-HITS:6589
X-COLOR:268243
X-SHOW-END-TIME:1
END:VEVENT
BEGIN:VEVENT
DTSTART;VALUE=DATE:20250704
DTEND;VALUE=DATE:20250707
UID:19C1E55F-71A7-45A8-A83D-41E9A5E9010A
SUMMARY:WL 5. & 6. VfV Schleiz
CREATED:20250218T094253Z
DTSTAMP:20250218T094253Z
URL:https://www.admv.de/index.php/de/motorsport/termine/wl-5-6-vfv-schleiz
LAST-MODIFIED:20250218T094253Z
SEQUENCE:0
LOCATION:Kohlbachstraße\, 07907 Schleiz\, Thüringen\, Deutschland
GEO:50.56776244;11.80924092
X-LOCATION-DISPLAYNAME:Schleizer Dreieck
X-ACCESS:1
X-HITS:6428
X-COLOR:268243
X-SHOW-END-TIME:1
END:VEVENT
BEGIN:VEVENT
DTSTART;VALUE=DATE:20250920
DTEND;VALUE=DATE:20250922
UID:6D46F4F5-33EA-4480-8D9A-9F02AA0F41E9
SUMMARY:Trabant-Lada-Racing-Cup
CREATED:20250710T100805Z
DTSTAMP:20250710T100805Z
URL:https://www.admv.de/index.php/de/motorsport/termine/trabant-lada-racing-cup
DESCRIPTION:HMC Wünschendorf e.V. im Rahmenprogramm der Nascar Euro Series
X-ALT-DESC;FMTTYPE=text/html:<p>HMC Wünschendorf e.V. im Rahmenprogramm der Nascar Euro Series</p>
LAST-MODIFIED:20250710T100805Z
SEQUENCE:0
LOCATION:B 246\, 39387 Oschersleben\, Sachsen-Anhalt\, Deutschland
GEO:52.02781020;11.27912950
X-LOCATION-DISPLAYNAME:Motorsport Arena Oschersleben
X-ACCESS:1
X-HITS:5792
X-COLOR:268243
X-SHOW-END-TIME:1
END:VEVENT
BEGIN:VEVENT
DTSTART;TZID=Europe/Berlin:20251003T100000
DTEND;TZID=Europe/Berlin:20251005T110000
UID:C20DEB4B-5107-49BB-BD9F-3076C879424B
SUMMARY:WL 7. & 8. Most Histo Cup
CREATED:20250218T094324Z
DTSTAMP:20250218T094324Z
URL:https://www.admv.de/index.php/de/motorsport/termine/wl-7-8-most-histo-cup
LAST-MODIFIED:20250218T094324Z
SEQUENCE:0
LOCATION:Hořanská cesta\, 435 02 Brüx\, Nordwesten\, Tschechien
GEO:50.51822000;13.59791478
X-LOCATION-DISPLAYNAME:Autodrom Most
X-ACCESS:1
X-HITS:6864
X-COLOR:268243
X-SHOW-END-TIME:1
END:VEVENT
END:VCALENDAR