BEGIN:VCALENDAR
VERSION:2.0
PRODID:DPCALENDAR
CALSCALE:GREGORIAN
BEGIN:VTIMEZONE
TZID:Europe/Berlin
X-MICROSOFT-CDO-TZID:4
BEGIN:STANDARD
DTSTART:20251026T010000
TZOFFSETFROM:+0200
TZOFFSETTO:+0100
TZNAME:CET
END:STANDARD
BEGIN:STANDARD
DTSTART:20261025T010000
TZOFFSETFROM:+0200
TZOFFSETTO:+0100
TZNAME:CET
END:STANDARD
BEGIN:DAYLIGHT
DTSTART:20260329T010000
TZOFFSETFROM:+0100
TZOFFSETTO:+0200
TZNAME:CEST
END:DAYLIGHT
END:VTIMEZONE
X-WR-TIMEZONE:Europe/Berlin
BEGIN:VEVENT
DTSTART;VALUE=DATE:20240413
DTEND;VALUE=DATE:20240415
UID:F03982C7-ADDA-4016-844D-80259B4DE15A
SUMMARY:Urstromtalpokal 2024
CREATED:20240712T104447Z
DTSTAMP:20240712T104447Z
URL:https://www.admv.de/index.php/de/motorsport/termine/urstromtalpokal-2024
LAST-MODIFIED:20240712T104447Z
SEQUENCE:0
LOCATION:Zum Klärwerk\, 15837 Baruth/Mark\, Brandenburg\, Deutschland
GEO:52.04088530;13.52922310
X-LOCATION-DISPLAYNAME:Zum Klärwerk
X-ACCESS:1
X-HITS:2771
X-COLOR:cc6133
X-SHOW-END-TIME:1
END:VEVENT
BEGIN:VEVENT
DTSTART;VALUE=DATE:20240511
DTEND;VALUE=DATE:20240512
UID:9F2B9785-B2EE-4EA7-9B01-CB1E315A80A4
SUMMARY:52. Daubaner Autocross
CREATED:20240712T100105Z
DTSTAMP:20240712T100105Z
URL:https://www.admv.de/index.php/de/motorsport/termine/52-daubaner-autocross
LAST-MODIFIED:20240712T100122Z
SEQUENCE:17
LOCATION:Weißenberger Straße\, 02906 Ober Prauske - Hornje Brusy\, Saxony\, Deutschland
GEO:51.24439990;14.67129990
X-LOCATION-DISPLAYNAME:Hohendubrau - Wysoka Dubrawa
X-ACCESS:1
X-HITS:2729
X-COLOR:cc6133
X-SHOW-END-TIME:1
END:VEVENT
BEGIN:VEVENT
DTSTART;VALUE=DATE:20240601
DTEND;VALUE=DATE:20240603
UID:EA244345-F679-4954-A928-36F3C5881776
SUMMARY:1. Lauf B/B Stockcarmeisterschaft
CREATED:20240712T105002Z
DTSTAMP:20240712T105002Z
URL:https://www.admv.de/index.php/de/motorsport/termine/1-lauf-b-b-stockcarmeisterschaft
LAST-MODIFIED:20240712T105002Z
SEQUENCE:0
LOCATION:Alte Dorfstraße\, 15345 Altlandsberg\, Brandenburg\, Deutschland
GEO:52.60733470;13.75725510
X-LOCATION-DISPLAYNAME:Alte Dorfstraße
X-ACCESS:1
X-HITS:2711
X-COLOR:cc6133
X-SHOW-END-TIME:1
END:VEVENT
BEGIN:VEVENT
DTSTART;VALUE=DATE:20240608
DTEND;VALUE=DATE:20240609
UID:2C6AC551-55CC-4EF9-A642-A75858DE5CC8
SUMMARY:Stockcar Seiffen
CREATED:20240712T105222Z
DTSTAMP:20240712T105222Z
URL:https://www.admv.de/index.php/de/motorsport/termine/stockcar-seiffen
LAST-MODIFIED:20240712T105222Z
SEQUENCE:0
LOCATION:Schulweg\, 09548 Seiffen/Erzgebirge\, Saxony\, Deutschland
GEO:50.63801700;13.44221735
X-LOCATION-DISPLAYNAME:MSC Schwartenberg
X-ACCESS:1
X-HITS:2751
X-COLOR:cc6133
X-SHOW-END-TIME:1
END:VEVENT
BEGIN:VEVENT
DTSTART;VALUE=DATE:20240615
DTEND;VALUE=DATE:20240617
UID:E17F9556-98D0-4B3A-9576-770ABCEB249A
SUMMARY:43. Autocross des MC Klosterfelde e.V. im ADMV
CREATED:20240712T112316Z
DTSTAMP:20240712T112316Z
URL:https://www.admv.de/index.php/de/motorsport/termine/43-autocross-des-mc-klosterfelde-e-v-im-admv
LAST-MODIFIED:20240712T112316Z
SEQUENCE:0
LOCATION:Prendener Weg\, 16359 Biesenthal\, Brandenburg\, Deutschland
GEO:52.77499800;13.59534430
X-LOCATION-DISPLAYNAME:In den Wukuhlen
X-ACCESS:1
X-HITS:3174
X-COLOR:cc6133
X-SHOW-END-TIME:1
END:VEVENT
BEGIN:VEVENT
DTSTART;VALUE=DATE:20240629
DTEND;VALUE=DATE:20240701
UID:B26D23DC-7F3D-4282-9C6E-03600A04640E
SUMMARY:Urstromtalpokal 2024
CREATED:20240712T105432Z
DTSTAMP:20240712T105432Z
URL:https://www.admv.de/index.php/de/motorsport/termine/urstromtalpokal-2025
LAST-MODIFIED:20240712T105632Z
SEQUENCE:120
LOCATION:Zum Klärwerk\, 15837 Baruth/Mark\, Brandenburg\, Deutschland
GEO:52.04088530;13.52922310
X-LOCATION-DISPLAYNAME:Zum Klärwerk
X-ACCESS:1
X-HITS:2695
X-COLOR:cc6133
X-SHOW-END-TIME:1
END:VEVENT
BEGIN:VEVENT
DTSTART;VALUE=DATE:20240706
DTEND;VALUE=DATE:20240708
UID:A940FAC6-EBAB-4609-A39F-B0A1EB5F3841
SUMMARY:Stockcar des MC Klosterfelde e.V. im ADMV
CREATED:20240712T105505Z
DTSTAMP:20240712T105505Z
URL:https://www.admv.de/index.php/de/motorsport/termine/stockcar-des-mc-klosterfelde-e-v-im-admv
LAST-MODIFIED:20240712T105505Z
SEQUENCE:0
LOCATION:Prendener Weg\, 16359 Biesenthal\, Brandenburg\, Deutschland
GEO:52.77499800;13.59534430
X-LOCATION-DISPLAYNAME:In den Wukuhlen
X-ACCESS:1
X-HITS:2524
X-COLOR:cc6133
X-SHOW-END-TIME:1
END:VEVENT
BEGIN:VEVENT
DTSTART;VALUE=DATE:20241005
DTEND;VALUE=DATE:20241007
UID:DC5FAA00-22C1-4E63-ACA4-F429551ADAE9
SUMMARY:2. Lauf B/B Stockcarmeisterschaft
CREATED:20240712T105308Z
DTSTAMP:20240712T105308Z
URL:https://www.admv.de/index.php/de/motorsport/termine/2-lauf-b-b-stockcarmeisterschaft
LAST-MODIFIED:20240712T105308Z
SEQUENCE:0
LOCATION:Feldweg\, 15345 Altlandsberg\, Brandenburg\, Deutschland
GEO:52.61049105;13.74146941
X-LOCATION-DISPLAYNAME:Stockcar - Arena - Altlandsberg
X-ACCESS:1
X-HITS:4719
X-COLOR:cc6133
X-SHOW-END-TIME:1
END:VEVENT
BEGIN:VEVENT
DTSTART;VALUE=DATE:20250726
DTEND;VALUE=DATE:20250728
UID:9AB05281-15A8-4B68-A7C4-B74D34026577
SUMMARY:44. Autocross des MC Klosterfelde e.V. im ADMV
CREATED:20250710T100933Z
DTSTAMP:20250710T100933Z
URL:https://www.admv.de/index.php/de/motorsport/termine/44-autocross-des-mc-klosterfelde-e-v-im-admv
LAST-MODIFIED:20250710T100933Z
SEQUENCE:0
LOCATION:Prendener Weg\, 16359 Biesenthal\, Brandenburg\, Deutschland
GEO:52.77499800;13.59534430
X-LOCATION-DISPLAYNAME:In den Wukuhlen
X-ACCESS:1
X-HITS:2457
X-COLOR:cc6133
X-SHOW-END-TIME:1
END:VEVENT
BEGIN:VEVENT
DTSTART;VALUE=DATE:20260516
DTEND;VALUE=DATE:20260518
UID:F2AA3702-947E-4B98-A754-8174640D1006
SUMMARY:54. Daubaner Autocross
CREATED:20260324T103441Z
DTSTAMP:20260324T103441Z
URL:https://www.admv.de/index.php/de/motorsport/termine/54-daubaner-autocross
LAST-MODIFIED:20260324T103441Z
SEQUENCE:0
LOCATION:Weißenberger Straße\, 02906 Ober Prauske - Hornje Brusy\, Saxony\, Deutschland
GEO:51.24439990;14.67129990
X-LOCATION-DISPLAYNAME:Hohendubrau - Wysoka Dubrawa
X-ACCESS:1
X-HITS:690
X-COLOR:cc6133
X-SHOW-END-TIME:1
END:VEVENT
END:VCALENDAR